BEGIN:VCALENDAR
VERSION:2.0
PRODID:-//GTA AM TOUR//GWD//
X-WR-TIMEZONE:America/Toronto
BEGIN:VEVENT
UID:2026-8@gtaamtour.com
DTSTART;VALUE=DATE:20260525
DTEND;VALUE=DATE:20260526
DTSTAMP:20260421T041554
ORGANIZER;CN=Tournaments:MAILTO:
SUMMARY:The Classic - Presented by Michelob ULTRA
DESCRIPTION:Barrie Country Club
LOCATION: 44.422992 -79.695877
END:VEVENT

END:VCALENDAR
